BEGIN:VCALENDAR
VERSION:2.0
PRODID:-//jEvents 2.0 for Joomla//EN
CALSCALE:GREGORIAN
METHOD:PUBLISH
BEGIN:VTIMEZONE
TZID:Europe/Berlin
BEGIN:STANDARD
DTSTART:20251026T020000
RDATE:20260329T030000
TZOFFSETFROM:+0200
TZOFFSETTO:+0100
TZNAME:Europe/Berlin CET
END:STANDARD
BEGIN:STANDARD
DTSTART:20261025T020000
RDATE:20270328T030000
TZOFFSETFROM:+0200
TZOFFSETTO:+0100
TZNAME:Europe/Berlin CET
END:STANDARD
BEGIN:STANDARD
DTSTART:20271031T020000
RDATE:20280326T030000
TZOFFSETFROM:+0200
TZOFFSETTO:+0100
TZNAME:Europe/Berlin CET
END:STANDARD
BEGIN:STANDARD
DTSTART:20281029T020000
RDATE:20290325T030000
TZOFFSETFROM:+0200
TZOFFSETTO:+0100
TZNAME:Europe/Berlin CET
END:STANDARD
BEGIN:STANDARD
DTSTART:20291028T020000
RDATE:20300331T030000
TZOFFSETFROM:+0200
TZOFFSETTO:+0100
TZNAME:Europe/Berlin CET
END:STANDARD
BEGIN:STANDARD
DTSTART:20301027T020000
RDATE:20310330T030000
TZOFFSETFROM:+0200
TZOFFSETTO:+0100
TZNAME:Europe/Berlin CET
END:STANDARD
BEGIN:STANDARD
DTSTART:20311026T020000
RDATE:20320328T030000
TZOFFSETFROM:+0200
TZOFFSETTO:+0100
TZNAME:Europe/Berlin CET
END:STANDARD
BEGIN:STANDARD
DTSTART:20321031T020000
RDATE:20330327T030000
TZOFFSETFROM:+0200
TZOFFSETTO:+0100
TZNAME:Europe/Berlin CET
END:STANDARD
BEGIN:STANDARD
DTSTART:20331030T020000
RDATE:20340326T030000
TZOFFSETFROM:+0200
TZOFFSETTO:+0100
TZNAME:Europe/Berlin CET
END:STANDARD
BEGIN:STANDARD
DTSTART:20341029T020000
RDATE:20350325T030000
TZOFFSETFROM:+0200
TZOFFSETTO:+0100
TZNAME:Europe/Berlin CET
END:STANDARD
BEGIN:STANDARD
DTSTART:20351028T020000
RDATE:20360330T030000
TZOFFSETFROM:+0200
TZOFFSETTO:+0100
TZNAME:Europe/Berlin CET
END:STANDARD
BEGIN:DAYLIGHT
DTSTART:20250410T140000
RDATE:20251026T020000
TZOFFSETFROM:+0100
TZOFFSETTO:+0200
TZNAME:Europe/Berlin CEST
END:DAYLIGHT
BEGIN:DAYLIGHT
DTSTART:20260329T030000
RDATE:20261025T020000
TZOFFSETFROM:+0100
TZOFFSETTO:+0200
TZNAME:Europe/Berlin CEST
END:DAYLIGHT
BEGIN:DAYLIGHT
DTSTART:20270328T030000
RDATE:20271031T020000
TZOFFSETFROM:+0100
TZOFFSETTO:+0200
TZNAME:Europe/Berlin CEST
END:DAYLIGHT
BEGIN:DAYLIGHT
DTSTART:20280326T030000
RDATE:20281029T020000
TZOFFSETFROM:+0100
TZOFFSETTO:+0200
TZNAME:Europe/Berlin CEST
END:DAYLIGHT
BEGIN:DAYLIGHT
DTSTART:20290325T030000
RDATE:20291028T020000
TZOFFSETFROM:+0100
TZOFFSETTO:+0200
TZNAME:Europe/Berlin CEST
END:DAYLIGHT
BEGIN:DAYLIGHT
DTSTART:20300331T030000
RDATE:20301027T020000
TZOFFSETFROM:+0100
TZOFFSETTO:+0200
TZNAME:Europe/Berlin CEST
END:DAYLIGHT
BEGIN:DAYLIGHT
DTSTART:20310330T030000
RDATE:20311026T020000
TZOFFSETFROM:+0100
TZOFFSETTO:+0200
TZNAME:Europe/Berlin CEST
END:DAYLIGHT
BEGIN:DAYLIGHT
DTSTART:20320328T030000
RDATE:20321031T020000
TZOFFSETFROM:+0100
TZOFFSETTO:+0200
TZNAME:Europe/Berlin CEST
END:DAYLIGHT
BEGIN:DAYLIGHT
DTSTART:20330327T030000
RDATE:20331030T020000
TZOFFSETFROM:+0100
TZOFFSETTO:+0200
TZNAME:Europe/Berlin CEST
END:DAYLIGHT
BEGIN:DAYLIGHT
DTSTART:20340326T030000
RDATE:20341029T020000
TZOFFSETFROM:+0100
TZOFFSETTO:+0200
TZNAME:Europe/Berlin CEST
END:DAYLIGHT
BEGIN:DAYLIGHT
DTSTART:20350325T030000
RDATE:20351028T020000
TZOFFSETFROM:+0100
TZOFFSETTO:+0200
TZNAME:Europe/Berlin CEST
END:DAYLIGHT
END:VTIMEZONE
BEGIN:VEVENT
UID:683daa7a16f1a1beafd2b966d538983c
CATEGORIES:Sonstiges
CREATED:20260406T114234
SUMMARY:Repaircafé
LOCATION:Alte Wagnerei\, Wittgenborner Str. 9\, Wächtersbach 
DESCRIPTION:Repaircafé

    In der „Alten Wagnerei“ wird wieder fleißig geschraubt, gel
 ötet, geschliffen und genäht. Ehrenamtliche Reparateure unterstützen die Be
 sucher dabei, Defekte an mitgebrachten Gebrauchsgegenständen unentgeltlich 
 zu untersuchen und im besten Falle gemeinsam zu reparieren. Für verschieden
 e Reparaturen aus den Bereichen Elektrogeräte, Holz/ Möbelstücke, Spielzeug
 e, Fahrrad und Kleidung stehen Reparaturfachkundige mit Werkzeugen vor Ort 
 bereit. Jeder kann mit zu reparierenden Gegenständen vorbeikommen. Wenn noc
 h eine Bedienungsanleitung vorhanden ist, bitte mitbringen.\nFalls möglich 
 –kein Muss–, wird gebeten, bis drei Tage vor der Veranstaltung per E-Mail a
 n repaircafe@ altewagnerei-waechtersbach.de (mailto:repaircafe@%20altewagne
 rei-waechtersbach.de) kurz mitzuteilen, welcher Gegenstand repariert werden
  soll und welche „Krankheit“ er hat. Auch wer nur mal schauen oder sich ein
  bisschen unterhalten möchte, ist herzlich willkommen.\n„Wir freuen uns auc
 h auf Menschen, die zukünftig das Reparaturteam mit Rat und Tat unterstütze
 n wollen.“\nFür Getränke, Kaffee und Kuchen ist gesorgt. Über eine kleine S
 pende zur Deckung der Kosten freuen sich die Verantwortlichen.\n
\nAktion: 
 FAHRRAD FIT\n
X-ALT-DESC;FMTTYPE=text/html:<h3>Repaircafé</h3><p>
<div id="mod-custom268" class="mod-custom custom">
 
    <p>In der „<em><strong>Alten Wagnerei</strong></em>“ wird wieder fleißig
  geschraubt, gelötet, geschliffen und genäht. Ehrenamtliche Reparateure unt
 erstützen die Besucher dabei, Defekte an mitgebrachten Gebrauchsgegenstände
 n unentgeltlich zu untersuchen und im besten Falle gemeinsam zu reparieren.
  Für verschiedene Reparaturen aus den Bereichen Elektrogeräte, Holz/ Möbels
 tücke, Spielzeuge, Fahrrad und Kleidung stehen Reparaturfachkundige mit Wer
 kzeugen vor Ort bereit. Jeder kann mit zu reparierenden Gegenständen vorbei
 kommen. Wenn noch eine Bedienungsanleitung vorhanden ist, bitte mitbringen.
 </p><p>Falls möglich –kein Muss–, wird gebeten, bis drei Tage vor der Veran
 staltung per E-Mail an <a href="mailto:repaircafe@%20altewagnerei-waechters
 bach.de" dir="ltr"><em><strong>repaircafe@ altewagnerei-waechtersbach.de</s
 trong></em></a> kurz mitzuteilen, welcher Gegenstand repariert werden soll 
 und welche „Krankheit“ er hat. Auch wer nur mal schauen oder sich ein bissc
 hen unterhalten möchte, ist herzlich willkommen.</p><blockquote><p>„Wir fre
 uen uns auch auf Menschen, die zukünftig das Reparaturteam mit Rat und Tat 
 unterstützen wollen.“</p></blockquote><p>Für Getränke, Kaffee und Kuchen is
 t gesorgt. Über eine kleine Spende zur Deckung der Kosten freuen sich die V
 erantwortlichen.</p></div>
</p><p><span style="text-decoration: underline;"
 ><em><strong>Aktion:</strong></em></span> <span class="h4">FAHRRAD FIT</spa
 n></p>
X-EXTRAINFO:\n
DTSTAMP:20260425T114607
DTSTART;TZID=Europe/Berlin:20260411T140000
DTEND;TZID=Europe/Berlin:20260411T170000
SEQUENCE:0
TRANSP:OPAQUE
END:VEVENT
END:VCALENDAR